BEGIN:VCALENDAR
VERSION:2.0
PRODID:-//CEEI Elche//EmprenemJunts//ES
BEGIN:VEVENT
UID:Evento_26308
DTSTAMP:20260303T113920Z
DTSTART:20260324T090000Z
DTEND:20260324T100000Z
SUMMARY:TrendWatching en acción: Cómo usar la plataforma para generar oportunidades
DESCRIPTION:
LOCATION:
URL:https://ceeielche.emprenemjunts.es/?op=14&n=26308
END:VEVENT
END:VCALENDAR
