BEGIN:VCALENDAR
VERSION:2.0
PRODID:-//CEEI Elche//EmprenemJunts//ES
BEGIN:VEVENT
UID:Evento_26300
DTSTAMP:20260302T105415Z
DTSTART:20260323T150000Z
DTEND:20260616T190000Z
SUMMARY:Programa Generación Digital para Directivos de pymes y autónomos - marzo
DESCRIPTION:Curso 100% subvencionado para autónomos y pymes de menos de 249 trabajadores
LOCATION:Alacant/Alicante (Alicante)
URL:https://ceeielche.emprenemjunts.es/?op=14&n=26300
GEO:38.346554;-0.483857
END:VEVENT
END:VCALENDAR
