BEGIN:VCALENDAR
VERSION:2.0
PRODID:-//CEEI Elche//EmprenemJunts//ES
BEGIN:VEVENT
UID:Evento_26113
DTSTAMP:20260129T110309Z
DTSTART:20260213T090000Z
DTEND:20260213T123000Z
SUMMARY:Estrategia e ideación con Trendwatching
DESCRIPTION:
LOCATION:
URL:https://ceeielche.emprenemjunts.es/?op=14&n=26113
END:VEVENT
END:VCALENDAR
