BEGIN:VCALENDAR
VERSION:2.0
PRODID:-//CEEI Elche//EmprenemJunts//ES
BEGIN:VEVENT
UID:Evento_26112
DTSTAMP:20260129T105710Z
DTSTART:20260209T090000Z
DTEND:20260209T100000Z
SUMMARY:Tendencias clave
DESCRIPTION:
LOCATION:
URL:https://ceeielche.emprenemjunts.es/?op=14&n=26112
END:VEVENT
END:VCALENDAR
