BEGIN:VCALENDAR
VERSION:2.0
PRODID:-//CEEI Elche//EmprenemJunts//ES
BEGIN:VEVENT
UID:Evento_26108
DTSTAMP:20260129T103634Z
DTSTART:20260204T090000Z
DTEND:20260204T100000Z
SUMMARY:¿Por qué investigar tendencias?
DESCRIPTION:Introducción a la plataforma trendwatching
LOCATION:
URL:https://ceeielche.emprenemjunts.es/?op=14&n=26108
END:VEVENT
END:VCALENDAR
