BEGIN:VCALENDAR
VERSION:2.0
PRODID:-//Desarrollo Local//EmprenemJunts//ES
BEGIN:VEVENT
UID:Evento_24622
DTSTAMP:20250318T143321Z
DTSTART:20250331T080000Z
DTEND:20250331T090000Z
SUMMARY:Emprendimiento y Digitalización
DESCRIPTION:Programa: el papel de la mujer rural en el desarrollo de sus pueblos. El 31 de marzo en Agudo (Ciudad Real)
LOCATION:Agudo (Ciudad Real)
URL:https://desarrollolocal.emprenemjunts.es/?op=14&n=24622
GEO:38.983452;-4.871256
END:VEVENT
END:VCALENDAR
