BEGIN:VCALENDAR
VERSION:2.0
PRODID:-//CEEI Valencia//EmprenemJunts//ES
BEGIN:VEVENT
UID:Evento_24612
DTSTAMP:20250314T115100Z
DTSTART:20250410T073000Z
DTEND:20250410T083000Z
SUMMARY:Claves del éxito del CEO y del comité de dirección para impulsar el crecimiento de la empresa
DESCRIPTION:El día 10 de Abril a las 09:30h en Valencia
LOCATION:Valencia (Valencia)
URL:https://ceeivalencia.emprenemjunts.es/?op=14&n=24612
GEO:39.472252;-0.367720
END:VEVENT
END:VCALENDAR
