BEGIN:VCALENDAR
VERSION:2.0
PRODID:-//Europa//EmprenemJunts//ES
BEGIN:VEVENT
UID:Evento_24606
DTSTAMP:20250314T084830Z
DTSTART:20250321T090000Z
DTEND:20250321T100000Z
SUMMARY:El mercado de la cerveza en el Reino Unido 2025
DESCRIPTION:El 21 de marzo Online
LOCATION:
URL:https://europa.emprenemjunts.es/?op=14&n=24606
END:VEVENT
END:VCALENDAR
