BEGIN:VCALENDAR
VERSION:2.0
PRODID:-//Internacional//EmprenemJunts//ES
BEGIN:VEVENT
UID:Evento_16315
DTSTAMP:20200107T105900Z
DTSTART:20200122T080000Z
DTEND:20200122T130000Z
SUMMARY:El IVA en el comercio Internacional
DESCRIPTION:
LOCATION:Castelló de la Plana/Castellón de la Plana (Castellón)
URL:https://internacional.emprenemjunts.es/?op=14&n=16315
GEO:39.981770;-0.024583
END:VEVENT
END:VCALENDAR
