BEGIN:VCALENDAR
VERSION:2.0
PRODID:-//Internacional//EmprenemJunts//ES
BEGIN:VEVENT
UID:Evento_14882
DTSTAMP:20190305T133137Z
DTSTART:20190321T083000Z
DTEND:20190321T123000Z
SUMMARY:Jornadas Contratación Pública
DESCRIPTION:IVACE
LOCATION:Valencia (Valencia)
URL:https://internacional.emprenemjunts.es/?op=14&n=14882
GEO:39.471638;-0.404052
END:VEVENT
END:VCALENDAR
