BEGIN:VCALENDAR
VERSION:2.0
PRODID:-//Internacional//EmprenemJunts//ES
BEGIN:VEVENT
UID:Evento_14881
DTSTAMP:20190305T132057Z
DTSTART:20190313T080000Z
DTEND:20190313T120000Z
SUMMARY:DESTINO MARRUECOS
DESCRIPTION:Perspectiva general y situación económica.
LOCATION:Valencia (Valencia)
URL:https://internacional.emprenemjunts.es/?op=14&n=14881
GEO:39.471638;-0.404052
END:VEVENT
END:VCALENDAR
