BEGIN:VCALENDAR
VERSION:2.0
PRODID:-//Internacional//EmprenemJunts//ES
BEGIN:VEVENT
UID:Evento_14286
DTSTAMP:20181030T075401Z
DTSTART:20181120T110000Z
DTEND:20181121T160000Z
SUMMARY:III Congreso Go Global
DESCRIPTION:#CongresoGoGlobal
LOCATION:Valencia (Valencia)
URL:https://internacional.emprenemjunts.es/?op=14&n=14286
GEO:39.509243;-0.426882
END:VEVENT
END:VCALENDAR
