BEGIN:VCALENDAR
VERSION:2.0
PRODID:-//Internacional//EmprenemJunts//ES
BEGIN:VEVENT
UID:Evento_13794
DTSTAMP:20180713T085726Z
DTSTART:20180920T200000Z
DTEND:20180921T200000Z
SUMMARY:Congreso Go Global 2018
DESCRIPTION:Conocer tendencias, recursos y experiencias empresariales te prepara para la internacionalización. #CongresoGoGlobal
LOCATION:Valencia (Valencia)
URL:https://internacional.emprenemjunts.es/?op=14&n=13794
GEO:39.509243;-0.426882
END:VEVENT
END:VCALENDAR
