BEGIN:VCALENDAR
VERSION:2.0
PRODID:-//Emprenemjunts//EmprenemJunts//ES
BEGIN:VEVENT
UID:Evento_12537
DTSTAMP:20170912T090451Z
DTSTART:20170920T163000Z
DTEND:20170921T183000Z
SUMMARY:MASTER CLASS LA NEUROVENTA EMOCIONAL.(Presencial y Online)
DESCRIPTION:¿Y SI DESCUBRIERAS EL DISCURSO QUE LE GUSTA A LA MENTE DE LA GENTE, PARA QUE TE ELIJAN PRIMERO A TI?
LOCATION:Valencia (Valencia)
URL:https://www.emprenemjunts.es/?op=14&n=12537
END:VEVENT
END:VCALENDAR
