BEGIN:VCALENDAR
VERSION:2.0
PRODID:-//Management//EmprenemJunts//ES
BEGIN:VEVENT
UID:Evento_10930
DTSTAMP:20160628T122437Z
DTSTART:20160930T130000Z
DTEND:20161202T200000Z
SUMMARY:4ª Edición Programa Ejecutivo de Alto Rendimiento \"Be 10\"
DESCRIPTION:Valencia, 30 de septiembre a 2 de diciembre 2016
Inscripciones abiertas: www.go-up.es
15 plazas. Aforo limitado
LOCATION:
URL:https://management.emprenemjunts.es/?op=14&n=10930
END:VEVENT
END:VCALENDAR
