BEGIN:VCALENDAR
VERSION:2.0
PRODID:-//Management//EmprenemJunts//ES
BEGIN:VEVENT
UID:Evento_10736
DTSTAMP:20160519T213522Z
DTSTART:20160602T150000Z
DTEND:20160602T180000Z
SUMMARY:Mindfulness. Una revolución en la empresa
DESCRIPTION:
LOCATION:VALENCIA
URL:https://management.emprenemjunts.es/?op=14&n=10736
END:VEVENT
END:VCALENDAR
